BEGIN:VCALENDAR
VERSION:2.0
PRODID:-//Just-Be.co.uk | Women&#039;s Events London - ECPv6.15.20//NONSGML v1.0//EN
CALSCALE:GREGORIAN
METHOD:PUBLISH
X-WR-CALNAME:Just-Be.co.uk | Women&#039;s Events London
X-ORIGINAL-URL:https://just-be.co.uk
X-WR-CALDESC:Events for Just-Be.co.uk | Women&#039;s Events London
REFRESH-INTERVAL;VALUE=DURATION:PT1H
X-Robots-Tag:noindex
X-PUBLISHED-TTL:PT1H
BEGIN:VTIMEZONE
TZID:Europe/London
BEGIN:DAYLIGHT
TZOFFSETFROM:+0000
TZOFFSETTO:+0100
TZNAME:BST
DTSTART:20210328T010000
END:DAYLIGHT
BEGIN:STANDARD
TZOFFSETFROM:+0100
TZOFFSETTO:+0000
TZNAME:GMT
DTSTART:20211031T010000
END:STANDARD
BEGIN:DAYLIGHT
TZOFFSETFROM:+0000
TZOFFSETTO:+0100
TZNAME:BST
DTSTART:20220327T010000
END:DAYLIGHT
BEGIN:STANDARD
TZOFFSETFROM:+0100
TZOFFSETTO:+0000
TZNAME:GMT
DTSTART:20221030T010000
END:STANDARD
BEGIN:DAYLIGHT
TZOFFSETFROM:+0000
TZOFFSETTO:+0100
TZNAME:BST
DTSTART:20230326T010000
END:DAYLIGHT
BEGIN:STANDARD
TZOFFSETFROM:+0100
TZOFFSETTO:+0000
TZNAME:GMT
DTSTART:20231029T010000
END:STANDARD
END:VTIMEZONE
BEGIN:VEVENT
DTSTART;TZID=Europe/London:20221022T120000
DTEND;TZID=Europe/London:20221022T180000
DTSTAMP:20260424T161945
CREATED:20220818T165313Z
LAST-MODIFIED:20220818T171738Z
UID:2717-1666440000-1666461600@just-be.co.uk
SUMMARY:Seniors & Friends Afternoon Tea & Dance
DESCRIPTION:Date: Saturday 22nd October 2022 \nFrom: 12 noon until 6:00pm \nVenue: Rye Lane Baptist Chapel\, 59A Rye Lane\, SE15 5EX \nJoin us for our Seniors and Friends Afternoon Tea & Dance.  Entertainment by Patrick Johnson and Step In Time Dance Group. \nCome along\, dress up\, sit down and be waited on…You deserve it! \nTO BOOK TICKETS: \nEventbrite – https://bit.ly/3pqPhZX | email: events@just-be.co.uk \nTickets: £15 Seniors | £25 Friends \nWelcome Drinks @ 12:00pm \nAfternoon Tea @ 12:30pm \nEntertainment @ 2:30pm \nMusic: DJ LEE \nDress Code: Smart \n 
URL:https://just-be.co.uk/event/seniors-friends-afternoon-tea-dance/
LOCATION:Rye Lane Chapel\, 59A Rye Lane\, London\, SE15 5EX\, United Kingdom
CATEGORIES:JustBe Fundraising
ATTACH;FMTTYPE=image/jpeg:https://just-be.co.uk/wp-content/uploads/2022/08/afternoon-tea-A5-FINAL-online-Flyer.jpg
ORGANIZER;CN="Yvette McDonald":MAILTO:info@just-be.co.uk
END:VEVENT
END:VCALENDAR