BEGIN:VCALENDAR
VERSION:2.0
PRODID:-//Just-Be.co.uk | Women&#039;s Events London - ECPv6.15.20//NONSGML v1.0//EN
CALSCALE:GREGORIAN
METHOD:PUBLISH
X-ORIGINAL-URL:https://just-be.co.uk
X-WR-CALDESC:Events for Just-Be.co.uk | Women&#039;s Events London
REFRESH-INTERVAL;VALUE=DURATION:PT1H
X-Robots-Tag:noindex
X-PUBLISHED-TTL:PT1H
BEGIN:VTIMEZONE
TZID:Europe/London
BEGIN:DAYLIGHT
TZOFFSETFROM:+0000
TZOFFSETTO:+0100
TZNAME:BST
DTSTART:20190331T010000
END:DAYLIGHT
BEGIN:STANDARD
TZOFFSETFROM:+0100
TZOFFSETTO:+0000
TZNAME:GMT
DTSTART:20191027T010000
END:STANDARD
BEGIN:DAYLIGHT
TZOFFSETFROM:+0000
TZOFFSETTO:+0100
TZNAME:BST
DTSTART:20200329T010000
END:DAYLIGHT
BEGIN:STANDARD
TZOFFSETFROM:+0100
TZOFFSETTO:+0000
TZNAME:GMT
DTSTART:20201025T010000
END:STANDARD
BEGIN:DAYLIGHT
TZOFFSETFROM:+0000
TZOFFSETTO:+0100
TZNAME:BST
DTSTART:20210328T010000
END:DAYLIGHT
BEGIN:STANDARD
TZOFFSETFROM:+0100
TZOFFSETTO:+0000
TZNAME:GMT
DTSTART:20211031T010000
END:STANDARD
BEGIN:DAYLIGHT
TZOFFSETFROM:+0000
TZOFFSETTO:+0100
TZNAME:BST
DTSTART:20220327T010000
END:DAYLIGHT
BEGIN:STANDARD
TZOFFSETFROM:+0100
TZOFFSETTO:+0000
TZNAME:GMT
DTSTART:20221030T010000
END:STANDARD
BEGIN:DAYLIGHT
TZOFFSETFROM:+0000
TZOFFSETTO:+0100
TZNAME:BST
DTSTART:20230326T010000
END:DAYLIGHT
BEGIN:STANDARD
TZOFFSETFROM:+0100
TZOFFSETTO:+0000
TZNAME:GMT
DTSTART:20231029T010000
END:STANDARD
BEGIN:DAYLIGHT
TZOFFSETFROM:+0000
TZOFFSETTO:+0100
TZNAME:BST
DTSTART:20240331T010000
END:DAYLIGHT
BEGIN:STANDARD
TZOFFSETFROM:+0100
TZOFFSETTO:+0000
TZNAME:GMT
DTSTART:20241027T010000
END:STANDARD
BEGIN:DAYLIGHT
TZOFFSETFROM:+0000
TZOFFSETTO:+0100
TZNAME:BST
DTSTART:20250330T010000
END:DAYLIGHT
BEGIN:STANDARD
TZOFFSETFROM:+0100
TZOFFSETTO:+0000
TZNAME:GMT
DTSTART:20251026T010000
END:STANDARD
BEGIN:DAYLIGHT
TZOFFSETFROM:+0000
TZOFFSETTO:+0100
TZNAME:BST
DTSTART:20260329T010000
END:DAYLIGHT
BEGIN:STANDARD
TZOFFSETFROM:+0100
TZOFFSETTO:+0000
TZNAME:GMT
DTSTART:20261025T010000
END:STANDARD
END:VTIMEZONE
BEGIN:VEVENT
DTSTART;TZID=Europe/London:20250325T193000
DTEND;TZID=Europe/London:20250325T210000
DTSTAMP:20260421T105755
CREATED:20250308T203557Z
LAST-MODIFIED:20250308T203648Z
UID:3548-1742931000-1742936400@just-be.co.uk
SUMMARY:Bible Study Series - Wise Women in the Word
DESCRIPTION:Bible Study Series – Wise Women in the Word\nTuesdays @ 7.30PM\n25th March\, 22nd April\, 27th May\, 24th June\, 29th July and 26th August.\nHosted online via Zoom\nWe are excited to invite you to a special monthly Bible study series titled Wise Women in the Word\, led by the lovely Dr. Joan Myers OBE. \nThis series will explore the stories of six remarkable women from the Bible\, one woman at a time\, across six sessions. Dr. Joan will bring their stories to life\, connecting their experiences with our everyday lives and circumstances. Her goal is to offer hope and encourage a closer relationship with God as we walk through their journeys together. \nThese sessions will be interactive. After each session\, we will include a prayer and declaration\, and Joan will provide copies of PowerPoint slides (if used) for reflection\, meditation\, and prayer. \nWho is this study for?\nThis series is for any woman seeking to grow deeper in her faith and understanding of God’s Word. Whether you’re looking for a deeper connection with Scripture\, a supportive community\, or simply a space to grow closer to God\, through Jesus Christ. This study is for you\, regardless of religious background. \nWhat to Expect: \n\nPowerful stories of women who trusted God\, faced challenges\, and followed His call\nThoughtful and inspiring teaching sessions\nA deeper connection with God\nPersonal growth and strengthened faith\n\nThis bible study is FREE to attend but a voluntary donation to our social enterprise\, JustBe4U CIC\, would be appreciated. \nClick here to book on the study:  https://bit.ly/41hZmmk \nThese teaching sessions will be hosted via Zoom.  \nTime: 7.30PM – 8.30PM\n\nNB: If you’ve registered once\, there’s no need to rebook again for all sessions! \nWe look forward to walking this journey with you!
URL:https://just-be.co.uk/event/bible-study-series-wise-women-in-the-word/
LOCATION:ONLINE – ZOOM
CATEGORIES:Gather & Grow
ATTACH;FMTTYPE=image/png:https://just-be.co.uk/wp-content/uploads/2025/03/banner-design-bible-series.png
ORGANIZER;CN="Yvette McDonald":MAILTO:info@just-be.co.uk
END:VEVENT
BEGIN:VEVENT
DTSTART;TZID=Europe/London:20220104T080000
DTEND;TZID=Europe/London:20220125T170000
DTSTAMP:20260421T105755
CREATED:20211230T235844Z
LAST-MODIFIED:20211231T000228Z
UID:2649-1641283200-1643130000@just-be.co.uk
SUMMARY:Gather and Grow
DESCRIPTION:Gather and Grow \n*Have you been walking through a difficult season this year and just want to see the back of it?* \nI know some people that are scared about their future and do not want to get used to this ‘new norm’. But we need to step into 2022 with the knowledge that God has our backs and we just need to *trust* and *hope* in what He has for us and our families. \nIn January\, I’m bringing 4 inspiring teachers to the Gather & Grow platform and they are going to help us step into 2022 with a confident hope and  a much-needed change of perspective. \nRead their bios here: https://bit.ly/33jsiQk  \nTo book the sessions click here: https://bit.ly/3gz8bjH  \nSee you on the 4th!
URL:https://just-be.co.uk/event/gather-and-grow/
LOCATION:ONLINE – ZOOM
CATEGORIES:Gather & Grow
ATTACH;FMTTYPE=image/png:https://just-be.co.uk/wp-content/uploads/2019/05/Screen-Shot-2019-05-17-at-19.50.33.png
ORGANIZER;CN="Yvette McDonald":MAILTO:info@just-be.co.uk
END:VEVENT
BEGIN:VEVENT
DTSTART;TZID=Europe/London:20210105T190000
DTEND;TZID=Europe/London:20210126T210000
DTSTAMP:20260421T105755
CREATED:20201215T155848Z
LAST-MODIFIED:20201215T161506Z
UID:2262-1609873200-1611694800@just-be.co.uk
SUMMARY:Gather & Grow New Year Special 2021
DESCRIPTION:“Hope in the Midst of Uncertainty”\nThe evening will consist of testimonies from some of our members of how God has brought them through 2020\, as well as inspiring songs from Valecia Larmond. \nDo you want to know how you can have hope in uncertain times? \nCheck out the study topics and inspirational speakers below: \nTuesday 5 January 2021 – Pastor Joan Myers \nHOPE IN THE MIDST OF UNCERTAINTY \nWhen you feel like life is constantly coming at you\, it’s natural to feel the fear\, anxiety\, stress and confusion. But how can you keep these difficult emotions from overtaking you\, and work through them in a way that leads you to hope in God?Joan Myers will unpack what hope means in a shifting environment\, and how crucial it is for building courage\, resilience and determination. She’ll also share some insights into how God can be your anchor when you feel like you’re on shaky ground. \nBIO: A much sought-after\, anointed and inspirational speaker in England\, USA\, the West Indies and Africa\, and the Pastor at Rehoboth International Christian Centre in Croydon\, Joan is more than qualified to bring a word on Hope in the midst of uncertainty. She is a qualified paediatric nurse and the London Representative for 62\,000 nurses on the Royal College of Nursing Council. She’s also member of Five2Medics\, a charity affiliated with Ascension Trust\, which provides practical and psychological support to health and social care professionals during the pandemic. \nTuesday 12 January 2021 – Pastor Dawn Carew-Smith \nFINDING THE HOPE YOU’VE LOST \nThere are times in life when you’ll find yourself at the bottom of your hope tank. You may have experienced the loss of someone dear to you\, or a situation that’s become too hard to bear\, or things may have got on top of you\, or you feel alone and without God in the world. It’s at these times when you need God the most. Dawn Carew-Smith will explore with us how to rekindle and recover the hope we’ve lost. She’ll offer biblical and practical insights into what we can do to find our way back to trusting in God and living a life of hope. \nBIO: Pastor Dawn Carew-Smith was ordained into ministry in 2004\, and has served as the Senior Pastor of Vision Ministries International for the past 15 years\, alongside her husband\, Co-Pastor Carlton Smith. A former headteacher\, Pastor Dawn is the author of a number of books\, including: The Essential Guide to Successful Living series on living in purpose and victory\, and a devotional called Thought For The Week. She will apply her practical approach\, drawing on Biblical wisdom to Finding the hope you’ve lost. \nTuesday 19 January 2021 – Minister Selina Sharpe M.A.\, B.Ed.\, Dip Theo. \nHOPE FOR TOMORROW \nHow can we press into God\, dare to dream and have hope for tomorrow when the news reports and social media are full of bad news\, and we keep hearing that we’re ‘in the last days’? In this talk\, Selina will encourage us to reflect on how we can actively live in hope for tomorrow. She will share how we can daily find hope\, joy and restoration in the presence of God\, and still stay connected to our purpose in the world. \nBIO: Minister Selina Sharpe is a retired Executive Headteacher who has worked in education for over 30 years. She now spends her time as an Educational Consultant\, a teacher of Education Studies\, a School Governor\, Street Pastor and Secretary of Southwark Street Pastors\, an Appropriate Adult for Sutton Council and a director of an advocacy company. Selina has been a member of her current church for the past 25 years and is a lay minister\, and has used her teaching gifts within the church setting for many years\, teaching in children’s church\, home groups and various bible study groups. \nTuesday 26 January 2021 – Dr. Min. Angela Herbert MBE. Msc Ed; BSc Ed. PGCE \nMIGHTY\, POWERFUL SEEDS \nSeeds of hope are often easy to miss. We can get so caught up in dreading the future\, or longing for the past that we fail to see what God is sowing into our lives\, or the lives of others. Angela Herbert will give a talk to Gather & Grow on the power of tiny seeds of hope that are being planted in this season. She will encourage us to build our hope by looking for the small things that God is doing now that will bear the lasting fruit in the future. \nBIO: Dr. Min. Angela Herbert MBE began a public sector career 36 years ago\, as a volunteer in prison and community ministry\, progressing to senior management and policy within the Criminal Justice System. She now chairs a Police Independent Advisory Group and an Independent Violent Crime Prevention Board\, which maps and networks opportunities that signpost youth to employment\, training\, and diversionary activity in London and across the United Kingdom. As a Minister of faith\, published author and professional public speaker; Angela shares a message of equality\, purpose\, love and hope that encourages individuals and groups to identify and achieve their aspirations. Her passion for enabling those trapped in the criminal justice system to find their way out and into the heart of their community and civil society more widely informs her talk\, Mighty\, Powerful seeds.  \nValecia Larmond is the proud and devoted mother of two young men. She has worked in various organisations two which changed her outlook on life: Metropolitan Police and London Probation. A devoted Christian for over 35 years\, Valecia presently serves in the capacity as a worship leader for two Pentecostal Christian fellowships. In the past she has been involved with a worship Ministry in Wandsworth prison and has participated in various Church Convocations far and wide\, also as a Choir and Chorale Leader. Valecia has a heart and passion for the Lord and for people. As a member of Gather & Grow\, her spiritual life has stretched and she has developed a much deeper love for God as He uses her voice to help and encourage others as she worships in song. Valecia has always believed one should “speak life then declare and decree God’s blessing over your life daily – sound your voice with a shout of praise ”Hallelujah” God be Praised”. \nThis bible study is FREE to attend but a voluntary donation to our social enterprise\, JustBe4U CIC\, would be appreciated. \nWhy not join us on this four week journey as we start the new year afresh with HOPE on the agenda. \nIf you would like to study with us\, then click here to book: https://bit.ly/3gz8bjH \nThe bible study will be hosted via Zoom. \nTime: 7pm – 9pm
URL:https://just-be.co.uk/event/gather-grow-new-year-special-2021/
LOCATION:ONLINE – ZOOM
CATEGORIES:Gather & Grow
ATTACH;FMTTYPE=image/jpeg:https://just-be.co.uk/wp-content/uploads/2020/12/Gather-Grow-Special-copy.jpg
ORGANIZER;CN="Yvette McDonald":MAILTO:info@just-be.co.uk
END:VEVENT
BEGIN:VEVENT
DTSTART;TZID=Europe/London:20201201T190000
DTEND;TZID=Europe/London:20201215T203000
DTSTAMP:20260421T105755
CREATED:20201127T120154Z
LAST-MODIFIED:20201127T165837Z
UID:2095-1606849200-1608064200@just-be.co.uk
SUMMARY:Gather and Grow Bible Study
DESCRIPTION:JustBe Bible Study: Come and connect with likeminded women who want to learn and build their faith during these times of uncertainty. \n\n\n\n\n\nAbout this Event\n\n\nGod has a plan for each and everyone of us. \nDecember is a time when many Christians reflect on the birth of Jesus and the significance of his birth throughout the world today. \nMany have been through traumatic experiences this year\, whether it be the loss of loved ones and friends or the state of loneliness during the lockdowns or even the loss of a job. \nWhatever we have experienced or been through – The best is yet to come – God has a plan for each of us. ‘For I know the plans I have for you\,’ declares the Lord\, ‘plans to prosper you and not to harm you\, plans to give you hope and a future.’ (Jer. 29:11) \n‘Eye has not seen\, nor ear heard\, nor have entered into the heart of man the things which God has prepared for those who love Him. (1 Cor 2:9) \nTuesday 1 December – Hope in Christ Alone (Rom 15:13) \nTuesday 8 December – Seasons (Eccl 3:1-11) \nTuesday 15 December – The Best is Yet to Come (Rom 12:2 & 8:28) \nTo read up on the study topics\, click here: https://bit.ly/3koNp6D \nCould you do with some good\, wholesome\, reassuring teaching? Then join us for part 1 on Tuesday 1 December @ 7pm \nTime: 7pm – 8.30pm \nLocation: Zoom \nZoom Details: You will receive an email with a Zoom link on the morning of the event. \nClick here to book for this event: https://bit.ly/36tSWUu \nLook forward to seeing you online! \n  \n\n\n\nHi there! \nMy name is Yvette McDonald and I’m the Founder & CEO of JustBe (www.just-be.co.uk)\, a women’s group that is inspired by a passion to lift and empower women. We understand with the pressures of life\, we give so much to others\, but sometimes we forget ourselves. \nGather & Grow is one of the areas that we minister to women who are lonely and/or isolated particularly during this pandemic. We want to be able to connect as a group of women because we want to draw closer to God – TOGETHER. We always seem to pay particular attention to our physical health\, but often times we pay far too little attention to our spiritual health. \nSo\, as we’re drawing close to the end of another year\, Minister Selina Sharpe has put together a short\, three week bible study which we feel will edify\, direct and prepare us for the year ahead. This study will look to the promises that we read about in the Word and how we stay rooted in Christ during these uncertain times. \n  \n\n\n\nSelina Sharpe M.A.\, B.Ed.\, Dip Theo.\, is a retired Executive Headteacher\, who has worked in education for over 30 years. Although Selina has retired from her post as a headteacher\, she believes that as a Christian one never retires\, but we go from ‘retire-ment’ to ‘repurpose-ment’\, where we focus more on serving others; not necessarily for monetary gain. Therefore\, she now spends her time now as an Educational Consultant\, a teacher of Education Studies\, a School Governor\, a Street Pastor\, Secretary of Southwark Street Pastors\, an Appropriate Adult for Sutton Council and a director of an advocacy company. \nSelina has been a member of her current church for the past 25 years and is a lay minister. She is studying at present for her ‘Masters’ degree at Spurgeon’s College. Selina has used her teaching gifts within the church setting for many years\, teaching in children’s church\, home groups and various bible study groups. \nA favourite scripture for Selina is 2nd Timothy 2:15 ‘Study to show thyself approved unto God\, a workman that needs not to be ashamed\, rightly dividing the word of truth’.
URL:https://just-be.co.uk/event/gather-and-grow-bible-study/
LOCATION:ONLINE – ZOOM
CATEGORIES:Gather & Grow
ORGANIZER;CN="Yvette McDonald":MAILTO:info@just-be.co.uk
END:VEVENT
END:VCALENDAR