BEGIN:VCALENDAR
VERSION:2.0
PRODID:-//Just-Be.co.uk | Women&#039;s Events London - ECPv6.15.20//NONSGML v1.0//EN
CALSCALE:GREGORIAN
METHOD:PUBLISH
X-WR-CALNAME:Just-Be.co.uk | Women&#039;s Events London
X-ORIGINAL-URL:https://just-be.co.uk
X-WR-CALDESC:Events for Just-Be.co.uk | Women&#039;s Events London
REFRESH-INTERVAL;VALUE=DURATION:PT1H
X-Robots-Tag:noindex
X-PUBLISHED-TTL:PT1H
BEGIN:VTIMEZONE
TZID:Europe/London
BEGIN:DAYLIGHT
TZOFFSETFROM:+0000
TZOFFSETTO:+0100
TZNAME:BST
DTSTART:20220327T010000
END:DAYLIGHT
BEGIN:STANDARD
TZOFFSETFROM:+0100
TZOFFSETTO:+0000
TZNAME:GMT
DTSTART:20221030T010000
END:STANDARD
BEGIN:DAYLIGHT
TZOFFSETFROM:+0000
TZOFFSETTO:+0100
TZNAME:BST
DTSTART:20230326T010000
END:DAYLIGHT
BEGIN:STANDARD
TZOFFSETFROM:+0100
TZOFFSETTO:+0000
TZNAME:GMT
DTSTART:20231029T010000
END:STANDARD
BEGIN:DAYLIGHT
TZOFFSETFROM:+0000
TZOFFSETTO:+0100
TZNAME:BST
DTSTART:20240331T010000
END:DAYLIGHT
BEGIN:STANDARD
TZOFFSETFROM:+0100
TZOFFSETTO:+0000
TZNAME:GMT
DTSTART:20241027T010000
END:STANDARD
END:VTIMEZONE
BEGIN:VEVENT
DTSTART;TZID=Europe/London:20230923T080000
DTEND;TZID=Europe/London:20230923T080000
DTSTAMP:20260421T140412
CREATED:20230807T134800Z
LAST-MODIFIED:20230807T135226Z
UID:3059-1695456000-1695456000@just-be.co.uk
SUMMARY:10k Sponsored Fun Walk
DESCRIPTION:10K SPONSORED FUN WALK\nSaturday 23 September 2023  \nCrystal Palace Park @ 8am \nJustBe4U invites you to their sponsored 10K Fun Walk on Saturday 23 September at Crystal Palace Park! The main aim of the walk is to raise as much money as possible for the group whilst having fun at the same time! \nThe funds raised will support the elderly in our community\, as well as women at risk of loneliness and isolation. We will also focus on those who may be suffering from  mental health issues such as anxiety and depression.  Throughout this year we have been hosting various events which have helped many in our community. Our next event will be a coach trip to Margate for the seniors and a fashion show in September! We want to do so much more and this is where you can help make it happen! \nEvery year JustBe4U supports over 500 members of the African and Caribbean community either on a one-to-one basis or by bringing people together. \nWould you like to help us raise funds on the 23rd but you don’t live in South East London? Ladies\, regardless of where you live\, whether in or outside of London\, you can still take part in our annual sponsored walk! More details will follow once you’ve completed the form. \nHow can you get involved?  \n1. Meet this challenge head on – join in and walk with us! Complete the attached booking form by clicking here:  https://bit.ly/3NQYBdd. Closing date for entry will be Saturday 9 September. \n2. Support us without walking – sponsor someone you know. \n3. Simply donate an amount of your choice. \nShould you need any further information please email events@just-be.co.uk with ’10K’ in the subject line and someone will come back to you. \nJustBe is a registered Social Enterprise\, trading under the name of JUSTBE4U CIC Ltd No. 11879426. \nOur sponsor\, the Forbes Family Group\, are an organisation dedicated to developing opportunities for social disadvantaged and marginalised individuals and the enrichment of disenfranchised communities. \nWe look forward to you walking and raising some money with us! \nYvette McDonald \nCEO & Founder\, JustBe \n  \n 
URL:https://just-be.co.uk/event/10k-sponsored-fun-walk/
LOCATION:Crystal Palace Park\, Thicket Road\, London\, England\, SE192GA\, United Kingdom
CATEGORIES:JustBe Fundraising
ATTACH;FMTTYPE=image/jpeg:https://just-be.co.uk/wp-content/uploads/2023/08/flyer-sponsored-walk-2023.jpg
ORGANIZER;CN="Yvette McDonald":MAILTO:info@just-be.co.uk
END:VEVENT
END:VCALENDAR