BEGIN:VCALENDAR
VERSION:2.0
PRODID:-//Just-Be.co.uk | Women&#039;s Events London - ECPv6.15.20//NONSGML v1.0//EN
CALSCALE:GREGORIAN
METHOD:PUBLISH
X-ORIGINAL-URL:https://just-be.co.uk
X-WR-CALDESC:Events for Just-Be.co.uk | Women&#039;s Events London
REFRESH-INTERVAL;VALUE=DURATION:PT1H
X-Robots-Tag:noindex
X-PUBLISHED-TTL:PT1H
BEGIN:VTIMEZONE
TZID:Europe/London
BEGIN:DAYLIGHT
TZOFFSETFROM:+0000
TZOFFSETTO:+0100
TZNAME:BST
DTSTART:20220327T010000
END:DAYLIGHT
BEGIN:STANDARD
TZOFFSETFROM:+0100
TZOFFSETTO:+0000
TZNAME:GMT
DTSTART:20221030T010000
END:STANDARD
BEGIN:DAYLIGHT
TZOFFSETFROM:+0000
TZOFFSETTO:+0100
TZNAME:BST
DTSTART:20230326T010000
END:DAYLIGHT
BEGIN:STANDARD
TZOFFSETFROM:+0100
TZOFFSETTO:+0000
TZNAME:GMT
DTSTART:20231029T010000
END:STANDARD
BEGIN:DAYLIGHT
TZOFFSETFROM:+0000
TZOFFSETTO:+0100
TZNAME:BST
DTSTART:20240331T010000
END:DAYLIGHT
BEGIN:STANDARD
TZOFFSETFROM:+0100
TZOFFSETTO:+0000
TZNAME:GMT
DTSTART:20241027T010000
END:STANDARD
END:VTIMEZONE
BEGIN:VEVENT
DTSTART;TZID=Europe/London:20230422T110000
DTEND;TZID=Europe/London:20230422T130000
DTSTAMP:20260422T225753
CREATED:20230313T171553Z
LAST-MODIFIED:20230313T171554Z
UID:2927-1682161200-1682168400@just-be.co.uk
SUMMARY:JustBe Cooking - Ginger Cake
DESCRIPTION:JUSTBE COOKING! \nGinger Cake \nSaturday 22nd April @ 11 am via Zoom\nKicia’s Kitchen brings you a ‘Spring Bakes’ Edition with JustBe Cooking.\nOnce more\, we will be testing our baking skills with a lovely\, spicy\, sticky Ginger Cake.\n\nGinger is known for its punchy flavour and spicy kick\, add a little or a lot. Let this cake spice up your life. The Great British Bake off doesn’t have anything on JustBe Cooking! \nWe have had some wonderfully fun cooking sessions\, so please join our fantastic group for a fun filled Saturday morning. Feel free to bring your tipple of choice; be it tea\, coffee\, or something stronger\, while we whip up our spring bakes\, have a laugh and dance to a few tunes in between…!! \nWhether you’re new at baking or a seasoned expert come and join our first cake and bake session for the year. \nThe ingredients will be sent a week before the ZOOM and we will create our cake TOGETHER. The idea is that anyone can do it.\nThe class fee is just £5 per household which will be donated to JustBe4U CIC’s fundraising programme. So why not get the members in your household involved. \nThere will also be a special prize for the person with the best presented cake! \nSmall Actions x Lots of People = BIG CHANGE.\n\nREGISTER & PAY:\nRegistration will close on Monday 17th April\nSo don’t miss out\, click on this link to register & pay:  https://bit.ly/3ji0hOb\n\nQUERIES:\nemail: events@just-be.co.uk and type ‘ginger cake’ in the subject line. \nLook forward to seeing you and let’s have some fun together. \nRemember Life is what you BAKE of it! \nThanking you in advance for support and look forward and don’t forget to tell your friends/family!!
URL:https://just-be.co.uk/event/justbe-cooking-ginger-cake/
LOCATION:ONLINE – ZOOM
CATEGORIES:JustBe Fundraising
ATTACH;FMTTYPE=image/png:https://just-be.co.uk/wp-content/uploads/2023/03/Screenshot-2023-03-13-at-17.04.27.png
ORGANIZER;CN="Yvette McDonald":MAILTO:info@just-be.co.uk
END:VEVENT
END:VCALENDAR