BEGIN:VCALENDAR
VERSION:2.0
PRODID:-//Just-Be.co.uk | Women&#039;s Events London - ECPv6.15.20//NONSGML v1.0//EN
CALSCALE:GREGORIAN
METHOD:PUBLISH
X-WR-CALNAME:Just-Be.co.uk | Women&#039;s Events London
X-ORIGINAL-URL:https://just-be.co.uk
X-WR-CALDESC:Events for Just-Be.co.uk | Women&#039;s Events London
REFRESH-INTERVAL;VALUE=DURATION:PT1H
X-Robots-Tag:noindex
X-PUBLISHED-TTL:PT1H
BEGIN:VTIMEZONE
TZID:Europe/London
BEGIN:DAYLIGHT
TZOFFSETFROM:+0000
TZOFFSETTO:+0100
TZNAME:BST
DTSTART:20200329T010000
END:DAYLIGHT
BEGIN:STANDARD
TZOFFSETFROM:+0100
TZOFFSETTO:+0000
TZNAME:GMT
DTSTART:20201025T010000
END:STANDARD
BEGIN:DAYLIGHT
TZOFFSETFROM:+0000
TZOFFSETTO:+0100
TZNAME:BST
DTSTART:20210328T010000
END:DAYLIGHT
BEGIN:STANDARD
TZOFFSETFROM:+0100
TZOFFSETTO:+0000
TZNAME:GMT
DTSTART:20211031T010000
END:STANDARD
BEGIN:DAYLIGHT
TZOFFSETFROM:+0000
TZOFFSETTO:+0100
TZNAME:BST
DTSTART:20220327T010000
END:DAYLIGHT
BEGIN:STANDARD
TZOFFSETFROM:+0100
TZOFFSETTO:+0000
TZNAME:GMT
DTSTART:20221030T010000
END:STANDARD
END:VTIMEZONE
BEGIN:VEVENT
DTSTART;TZID=Europe/London:20210315T190000
DTEND;TZID=Europe/London:20210315T203000
DTSTAMP:20260422T083143
CREATED:20210208T161319Z
LAST-MODIFIED:20210210T110831Z
UID:2325-1615834800-1615840200@just-be.co.uk
SUMMARY:Purple Years
DESCRIPTION:Purple Years \nDate: Monday 15th March 2021 \nTime: 7pm – 8.30pm \nOur ‘Purple Years™’ are not: anxiety\, night sweats\, bloating\, fallen bottoms and dry body parts. This is such a poor reflection of these years and they have falsely overtaken the essential wonder and mystery of being a woman in menopause. \nThe thought of menopause usually calls to mind an array of unwelcome symptoms. But menopause can have a positive impact on your life as well; many of the emotional and social changes can actually be energising and be a welcome change. \nMidlife can be a good thing. Menopause is not an end …. it’s a beginning. We go through the fire and come out refined. \nIn fact\, there is such huge potential in this stage of your life! What if 50 and menopausal is actually a well wrapped gift? \nCarole Litchmore M.Sc. has over 35 years’ experience in the field of development and research and so brings a keen eye to exploring this new stage in our lives. Over the years she has coached and advised women at all stages in their professional and personal lives. This stage may be the best yet! \nRegister here for this workshop.
URL:https://just-be.co.uk/event/purple-years/
LOCATION:ONLINE – ZOOM
CATEGORIES:JustBe Practical
ATTACH;FMTTYPE=image/jpeg:https://just-be.co.uk/wp-content/uploads/2021/01/YouDoYouIn2021.jpg
ORGANIZER;CN="Yvette McDonald":MAILTO:info@just-be.co.uk
END:VEVENT
END:VCALENDAR