BEGIN:VCALENDAR
VERSION:2.0
PRODID:-//Just-Be.co.uk | Women&#039;s Events London - ECPv6.15.20//NONSGML v1.0//EN
CALSCALE:GREGORIAN
METHOD:PUBLISH
X-ORIGINAL-URL:https://just-be.co.uk
X-WR-CALDESC:Events for Just-Be.co.uk | Women&#039;s Events London
REFRESH-INTERVAL;VALUE=DURATION:PT1H
X-Robots-Tag:noindex
X-PUBLISHED-TTL:PT1H
BEGIN:VTIMEZONE
TZID:Europe/London
BEGIN:DAYLIGHT
TZOFFSETFROM:+0000
TZOFFSETTO:+0100
TZNAME:BST
DTSTART:20200329T010000
END:DAYLIGHT
BEGIN:STANDARD
TZOFFSETFROM:+0100
TZOFFSETTO:+0000
TZNAME:GMT
DTSTART:20201025T010000
END:STANDARD
BEGIN:DAYLIGHT
TZOFFSETFROM:+0000
TZOFFSETTO:+0100
TZNAME:BST
DTSTART:20210328T010000
END:DAYLIGHT
BEGIN:STANDARD
TZOFFSETFROM:+0100
TZOFFSETTO:+0000
TZNAME:GMT
DTSTART:20211031T010000
END:STANDARD
BEGIN:DAYLIGHT
TZOFFSETFROM:+0000
TZOFFSETTO:+0100
TZNAME:BST
DTSTART:20220327T010000
END:DAYLIGHT
BEGIN:STANDARD
TZOFFSETFROM:+0100
TZOFFSETTO:+0000
TZNAME:GMT
DTSTART:20221030T010000
END:STANDARD
END:VTIMEZONE
BEGIN:VEVENT
DTSTART;TZID=Europe/London:20210118T190000
DTEND;TZID=Europe/London:20210118T203000
DTSTAMP:20260422T145439
CREATED:20210104T180401Z
LAST-MODIFIED:20210104T181920Z
UID:2284-1610996400-1611001800@just-be.co.uk
SUMMARY:You Do You in 2021 - Master Your Money Monster!
DESCRIPTION:Master Your Money Monster \nMonday 18 January 2021  \n7pm – 8.30pm \nIt’s the post-Christmas shock. You sit down and look at your bills and find there’s far more month left than money! You vow that this is the year that you’re actually going to conquer your budgeting monster. But something is telling you\, it’s impossible. That holiday or car you’ve been trying to save for will always be out of reach. \nLearning to manage your budget has never been more important. We deal with it on a daily basis. Everyone uses it. Everyone needs it. Yet many people struggle to cope and worry about money. \nBut\, when you know how to make your money work with you\, you can: \n•        help make the money you have go further\n•        stop working extra hours to cover your seemingly unending expenses\n•        develop a relationship with money that is not based on fear or greed\n•        start saving successfully for short-term goals\n•        plan for your future with long-term savings\n•        take back control of your life. \nIn this FREE\, FUN & INTERACTIVE workshop you will explore your relationship with money\, and learn some simple practical solutions for managing your money in a way that gives you more freedom and control to make choices that better serve you. \nYour road to greater financial freedom in 2021 starts here! \nRegister for this workshop here.
URL:https://just-be.co.uk/event/you-do-you-in-2021-master-your-money-monster/
LOCATION:ONLINE – ZOOM
CATEGORIES:JustBe Practical
ATTACH;FMTTYPE=image/jpeg:https://just-be.co.uk/wp-content/uploads/2021/01/YouDoYouIn2021.jpg
ORGANIZER;CN="Yvette McDonald":MAILTO:info@just-be.co.uk
END:VEVENT
END:VCALENDAR