BEGIN:VCALENDAR
VERSION:2.0
PRODID:-//Just-Be.co.uk | Women&#039;s Events London - ECPv6.15.20//NONSGML v1.0//EN
CALSCALE:GREGORIAN
METHOD:PUBLISH
X-WR-CALNAME:Just-Be.co.uk | Women&#039;s Events London
X-ORIGINAL-URL:https://just-be.co.uk
X-WR-CALDESC:Events for Just-Be.co.uk | Women&#039;s Events London
REFRESH-INTERVAL;VALUE=DURATION:PT1H
X-Robots-Tag:noindex
X-PUBLISHED-TTL:PT1H
BEGIN:VTIMEZONE
TZID:Europe/London
BEGIN:DAYLIGHT
TZOFFSETFROM:+0000
TZOFFSETTO:+0100
TZNAME:BST
DTSTART:20210328T010000
END:DAYLIGHT
BEGIN:STANDARD
TZOFFSETFROM:+0100
TZOFFSETTO:+0000
TZNAME:GMT
DTSTART:20211031T010000
END:STANDARD
BEGIN:DAYLIGHT
TZOFFSETFROM:+0000
TZOFFSETTO:+0100
TZNAME:BST
DTSTART:20220327T010000
END:DAYLIGHT
BEGIN:STANDARD
TZOFFSETFROM:+0100
TZOFFSETTO:+0000
TZNAME:GMT
DTSTART:20221030T010000
END:STANDARD
BEGIN:DAYLIGHT
TZOFFSETFROM:+0000
TZOFFSETTO:+0100
TZNAME:BST
DTSTART:20230326T010000
END:DAYLIGHT
BEGIN:STANDARD
TZOFFSETFROM:+0100
TZOFFSETTO:+0000
TZNAME:GMT
DTSTART:20231029T010000
END:STANDARD
END:VTIMEZONE
BEGIN:VEVENT
DTSTART;VALUE=DATE:20220113
DTEND;VALUE=DATE:20220114
DTSTAMP:20260420T061249
CREATED:20211230T232023Z
LAST-MODIFIED:20211230T233455Z
UID:2643-1642032000-1642118399@just-be.co.uk
SUMMARY:Weigh To Go
DESCRIPTION:Weigh to Go\nWe all know how easy it is to put on extra weight over Christmas and how hard it is to come off. \nIf you’re interested in losing weight\, keeping fit or just want to be a part of a supportive network of like-minded women….. then look no further! \n*Weigh2Go* is a group that  encourages\, inspires and empowers women to achieve their goals. In just 3 months you can begin your journey to a new you. We don’t focus on the weightloss\, but on the mindset – once that is conquered everything else will fall into place. \nInterested??? Then why not join us on *Thursday 6th January* to find out more about what we do.  Trust me\, you won’t be disappointed. \nTo read more\, click here:  https://bit.ly/3JlE6SJ  \nTo register and book for the sessions from *Thursday 13th January*\, click here: https://bit.ly/2Qr59oY   \n*”The mind is everything. What you think\, you become.”*  \nSee you in 2022!
URL:https://just-be.co.uk/event/weigh-to-go/
LOCATION:ONLINE – ZOOM
CATEGORIES:JustBe Practical
ATTACH;FMTTYPE=image/jpeg:https://just-be.co.uk/wp-content/uploads/2019/05/logo.jpg
ORGANIZER;CN="Yvette McDonald":MAILTO:info@just-be.co.uk
END:VEVENT
END:VCALENDAR