BEGIN:VCALENDAR
VERSION:2.0
PRODID:-//Just-Be.co.uk | Women&#039;s Events London - ECPv6.15.20//NONSGML v1.0//EN
CALSCALE:GREGORIAN
METHOD:PUBLISH
X-ORIGINAL-URL:https://just-be.co.uk
X-WR-CALDESC:Events for Just-Be.co.uk | Women&#039;s Events London
REFRESH-INTERVAL;VALUE=DURATION:PT1H
X-Robots-Tag:noindex
X-PUBLISHED-TTL:PT1H
BEGIN:VTIMEZONE
TZID:Europe/London
BEGIN:DAYLIGHT
TZOFFSETFROM:+0000
TZOFFSETTO:+0100
TZNAME:BST
DTSTART:20190331T010000
END:DAYLIGHT
BEGIN:STANDARD
TZOFFSETFROM:+0100
TZOFFSETTO:+0000
TZNAME:GMT
DTSTART:20191027T010000
END:STANDARD
BEGIN:DAYLIGHT
TZOFFSETFROM:+0000
TZOFFSETTO:+0100
TZNAME:BST
DTSTART:20200329T010000
END:DAYLIGHT
BEGIN:STANDARD
TZOFFSETFROM:+0100
TZOFFSETTO:+0000
TZNAME:GMT
DTSTART:20201025T010000
END:STANDARD
BEGIN:DAYLIGHT
TZOFFSETFROM:+0000
TZOFFSETTO:+0100
TZNAME:BST
DTSTART:20210328T010000
END:DAYLIGHT
BEGIN:STANDARD
TZOFFSETFROM:+0100
TZOFFSETTO:+0000
TZNAME:GMT
DTSTART:20211031T010000
END:STANDARD
BEGIN:DAYLIGHT
TZOFFSETFROM:+0000
TZOFFSETTO:+0100
TZNAME:BST
DTSTART:20220327T010000
END:DAYLIGHT
BEGIN:STANDARD
TZOFFSETFROM:+0100
TZOFFSETTO:+0000
TZNAME:GMT
DTSTART:20221030T010000
END:STANDARD
BEGIN:DAYLIGHT
TZOFFSETFROM:+0000
TZOFFSETTO:+0100
TZNAME:BST
DTSTART:20230326T010000
END:DAYLIGHT
BEGIN:STANDARD
TZOFFSETFROM:+0100
TZOFFSETTO:+0000
TZNAME:GMT
DTSTART:20231029T010000
END:STANDARD
BEGIN:DAYLIGHT
TZOFFSETFROM:+0000
TZOFFSETTO:+0100
TZNAME:BST
DTSTART:20240331T010000
END:DAYLIGHT
BEGIN:STANDARD
TZOFFSETFROM:+0100
TZOFFSETTO:+0000
TZNAME:GMT
DTSTART:20241027T010000
END:STANDARD
BEGIN:DAYLIGHT
TZOFFSETFROM:+0000
TZOFFSETTO:+0100
TZNAME:BST
DTSTART:20250330T010000
END:DAYLIGHT
BEGIN:STANDARD
TZOFFSETFROM:+0100
TZOFFSETTO:+0000
TZNAME:GMT
DTSTART:20251026T010000
END:STANDARD
BEGIN:DAYLIGHT
TZOFFSETFROM:+0000
TZOFFSETTO:+0100
TZNAME:BST
DTSTART:20260329T010000
END:DAYLIGHT
BEGIN:STANDARD
TZOFFSETFROM:+0100
TZOFFSETTO:+0000
TZNAME:GMT
DTSTART:20261025T010000
END:STANDARD
END:VTIMEZONE
BEGIN:VEVENT
DTSTART;TZID=Europe/London:20250925T080000
DTEND;TZID=Europe/London:20250927T170000
DTSTAMP:20260422T013125
CREATED:20250227T161130Z
LAST-MODIFIED:20250227T164652Z
UID:3526-1758787200-1758992400@just-be.co.uk
SUMMARY:Girls Getaway 2025
DESCRIPTION:Girls Getaway 2025 – Bath City & Spa Break\nApex City of Bath Hotel\, Bath\nApex City of Bath Hotel  |  James Street West  |  Bath  |  BA1 2DA \nThursday 25th – Saturday 27th September 2025 \nBath City & Spa Break – There is nothing more exciting than going away with your favourite girlfriends and experiencing a change in scenery. A girly weekend away is the perfect way to escape the daily grind and doing something different. \nSo ladies\, how about a little escape to Bath for some relaxation\, fun\, and adventure? \nImagine unwinding with friends in one of the most beautiful cities in the UK\, soaking in the views\, enjoying a luxurious spa time in Thermae Spa and exploring everything this historic city has to offer. Whether you’re looking for a chance to relax\, sightsee\, or just spend quality time together\, Bath is the perfect getaway. \nRelax at Thermae Bath Spa\nLadies\, unwind and rejuvenate at the world-renowned Thermae Bath Spa\, where you can soak in the natural hot springs while enjoying both indoor and outdoor pools with stunning views of the city. Treat yourself to soothing spa treatments and let the stress melt away. \nExplore the City\nAfterward\, explore the charm of Bath’s beautiful streets\, visit the historic Bath Abbey\, and soak in the city’s rich culture and history. Whether you’re shopping\, dining\, or sightseeing\, Bath offers something special for everyone. \nYou don’t want to miss out on this unforgettable getaway! \nYour Spa & City Break includes\nTwo nights’ bed and breakfast accommodation\nDinner together (Thursday evening)\nThermae Spa Entry\nCity Bus Tour\nShopping (you know this is a must for some of you!) \n \n \nOptional\nFairfield House: organised tour and meal\nA visit to the Roman Baths\nBridgerton Guided Walk\nMr Darcy’s Afternoon Tea \nCOSTS \nEarly Bird (until 31st March)\n£760 Twin Room (£380pp)\n£540 Single Room \nStandard Price\n£780 Twin Room (£390pp)\n£550 Single Room \nMembers\nCheck your messages for exclusive discounts! \nLimited Availability\nOnly 10 twin & 5 single rooms reserved! \nInstalments\nPay in 3 instalments after your deposit is paid to make this trip more affordable \nDeposit:  £50ppn (non-refundable) by 27th March 2025 \nBalance: 1st July 2025 \nNext Steps\nSay “YES\, I’M COMING!” then click to book: https://bit.ly/4hKgJ64 \nEventbrite Booking
URL:https://just-be.co.uk/event/girls-getaway-2025/
LOCATION:Apex City of Bath Hotel\, Bath\, James Street West\, Bath\, BA1 2DA\, United Kingdom
CATEGORIES:JustBe Revived
ATTACH;FMTTYPE=image/png:https://just-be.co.uk/wp-content/uploads/2025/02/banner-design-for-a-girls-getaway-2.png
ORGANIZER;CN="Yvette McDonald":MAILTO:info@just-be.co.uk
END:VEVENT
BEGIN:VEVENT
DTSTART;TZID=Europe/London:20201003T075000
DTEND;TZID=Europe/London:20201107T100000
DTSTAMP:20260422T013125
CREATED:20200925T213546Z
LAST-MODIFIED:20201008T124241Z
UID:1903-1601711400-1604743200@just-be.co.uk
SUMMARY:Walk & Talk - Bromley/Lambeth Walkers
DESCRIPTION:You will benefit from a fantastic opportunity to take part in something simple but effective\, and very easy to do without thinking – Walk and Talk! You will be part of a group of like-minded women where you will make great connections\, have fun getting fit and maybe go home having made a new friend or two! There will be a qualified instructor available on the day\, differing each week to keep things fresh. \nDon’t worry about the weather (unless it’s a hurricane\, tornado or torrential rain!)\, we still plan to walk. Of course if this changes we will let you know beforehand. So don’t let anything stop you\, no excuses no complaining\, we are ‘Warrior Women’ making good things happen! \nRead below what some of our women have said having been on the taster sessions: \n“I feel rejuvenated & revitalised after every session and it is wonderful meeting new people every week”. \n“I’ve felt great and loved that it addresses two types of exercises: walking & a personal trainer session- and also the talks which is something for the soul – all by 10 o’clock in the morning – absolutely brilliant.” \nAs you are aware\, JustBe are well known for our initiatives to help women from all walks of life\, but we need help to continue to bring these wonderful initiatives to you\, one of which is the Walk & Talk group. To help in our fundraising and to allow us to work on more events to tackle various issues\, we are asking you to spend just £5 per session. If you are feeling especially motivated we will bless you with a FREE session when you sign up for the whole five sessions! So that would be just £20 for FIVE WEEKS of Walk & Talk. Tell your family and friends – the more the merrier!\nEqually if you are unable to book in advance\, feel free to pay on the day. Please bring the exact amount as there will be no opportunity to provide change. \nAs with the taster sessions\, there will be a different selection of meeting points each week covering the Lambeth and Bromley Boroughs so there should be something convenient for everyone to be able to join in. Make sure you wear your walking/running shoes (leave the dancing shoes at home for now!) and bring a bottle of water to make sure you stay hydrated. \nWe are excited to meet you on the park and remember come rain or storm! \n*TO REGISTER YOUR INTEREST FOR THESE EVENTS\, PLEASE GO TO THE FOLLOWING LINKS:* \nLambeth Walk & Talk – https://bit.ly/3hxpGka \nBromley Walk & Talk – https://bit.ly/2PKEz6j \nPlease Note: All events organised by JustBe are COVID Secure and run in accordance with Government Covid19 Guidelines https://www.gov.uk/coronavirus. We don’t want anything to spoil your fun so please do familiarise yourself beforehand.
URL:https://just-be.co.uk/event/walk-talk-bromley-walkers/
CATEGORIES:JustBe Revived
ATTACH;FMTTYPE=image/png:https://just-be.co.uk/wp-content/uploads/2020/09/Screenshot-2020-09-25-at-21.37.53.png
ORGANIZER;CN="Yvette McDonald":MAILTO:info@just-be.co.uk
END:VEVENT
END:VCALENDAR