BEGIN:VCALENDAR
VERSION:2.0
PRODID:-//Just-Be.co.uk | Women&#039;s Events London - ECPv6.15.20//NONSGML v1.0//EN
CALSCALE:GREGORIAN
METHOD:PUBLISH
X-WR-CALNAME:Just-Be.co.uk | Women&#039;s Events London
X-ORIGINAL-URL:https://just-be.co.uk
X-WR-CALDESC:Events for Just-Be.co.uk | Women&#039;s Events London
REFRESH-INTERVAL;VALUE=DURATION:PT1H
X-Robots-Tag:noindex
X-PUBLISHED-TTL:PT1H
BEGIN:VTIMEZONE
TZID:Europe/London
BEGIN:DAYLIGHT
TZOFFSETFROM:+0000
TZOFFSETTO:+0100
TZNAME:BST
DTSTART:20180325T010000
END:DAYLIGHT
BEGIN:STANDARD
TZOFFSETFROM:+0100
TZOFFSETTO:+0000
TZNAME:GMT
DTSTART:20181028T010000
END:STANDARD
BEGIN:DAYLIGHT
TZOFFSETFROM:+0000
TZOFFSETTO:+0100
TZNAME:BST
DTSTART:20190331T010000
END:DAYLIGHT
BEGIN:STANDARD
TZOFFSETFROM:+0100
TZOFFSETTO:+0000
TZNAME:GMT
DTSTART:20191027T010000
END:STANDARD
BEGIN:DAYLIGHT
TZOFFSETFROM:+0000
TZOFFSETTO:+0100
TZNAME:BST
DTSTART:20200329T010000
END:DAYLIGHT
BEGIN:STANDARD
TZOFFSETFROM:+0100
TZOFFSETTO:+0000
TZNAME:GMT
DTSTART:20201025T010000
END:STANDARD
END:VTIMEZONE
BEGIN:VEVENT
DTSTART;TZID=Europe/London:20191005T173000
DTEND;TZID=Europe/London:20191006T020000
DTSTAMP:20260421T093237
CREATED:20190517T025129Z
LAST-MODIFIED:20190924T141123Z
UID:171-1570296600-1570327200@just-be.co.uk
SUMMARY:Black History Month Charity Dinner & Dance
DESCRIPTION:Soul Line Dancing Workshop\n				\n				\n			\n			\n				\n				\n				\n				\n				\n				\n				\n				\n				\n				\n			\n				\n				\n				\n				\n				JustBe invites you to our annual Charity Black History Month Dinner & Dance. This year\, we pay homage to our talented film\, radio and television heroes whose performances keep us captivated time and time again. As JustBe continues to celebrate its 10th anniversary\, we invite you to join us for a night of continued celebration as we are happy to #JustBe10 in 2019. With fun\, laughter and much merriment\, as always\, this is an event you do not want to miss! Exclusive prizes and giveaways on the night. This year we will be raising funds to support SOKBKOOS (Stop Our Kids Being Killed On Our Street)\, a non-profit organisation supporting young people and families affected by crime. In addition\, we will also be hearing from the Chair of the VCPB (Violent Crime Prevention Board)\, an organisation that aims to build and promote conflict resolution and resilience in the community. \n \nTICKETS: \nSPECIAL EARLY BIRD OFFER (1-31 July ONLY) \n\n\n\none ticket\n£ 68\n\n\n\ntwo tickets\n£130\nLimited Availability\n\n\nTable of 10\n£640*\n\n\n\n\n \nTICKETS THEREAFTER: \n\n\n\none ticket\n£ 75\n\n\n\ntwo tickets\n£140\nLimited Availability\n\n\nTable of 10\n£700*\n\n\n\n\n* click here: http://bit.ly/2Qe0ulJ to book 10 or more tickets \nPlease Note: All tickets are-non refundable \n 
URL:https://just-be.co.uk/event/black-history-month-celebration/
LOCATION:Holiday Inn\, Bloomsbury\, Holiday Inn\, Bloomsbury\, London\, United Kingdom
CATEGORIES:JustBe Together
ATTACH;FMTTYPE=image/jpeg:https://just-be.co.uk/wp-content/uploads/2019/06/JustBe_BHM_FLYER_v7-1-smallforweb.jpg
ORGANIZER;CN="Yvette McDonald":MAILTO:info@just-be.co.uk
END:VEVENT
BEGIN:VEVENT
DTSTART;TZID=Europe/London:20190615T153000
DTEND;TZID=Europe/London:20190615T173000
DTSTAMP:20260421T093237
CREATED:20190525T110445Z
LAST-MODIFIED:20190529T132315Z
UID:1367-1560612600-1560619800@just-be.co.uk
SUMMARY:Soul Line Dancing Workshop
DESCRIPTION:Soul Line Dancing Workshop\n				\n				\n			\n				\n				\n				\n				\n				\n			\n				\n				\n				\n				\n				PAY SECURELY ONLINEPay for your place on this workshop with PAYPAL\, your transaction is completely secure.  Choose your option and click “Add to Cart” button. \n				\n			\n				\n				\n				\n				\n				\n\n\n\nOptions\nMember £12.00 GBP\nNon-Member £15.00 GBP\n \n\n\n\n\n\n\n\n			\n			\n				\n				\n				\n				\n				\n				\n				\n				\n				\n				You will be taught Choreographed routines set to music covering pop\, hip hop and afro pop. \nWhat to expect in Soul Line Dancing class? Soul line dancing is low impact and fun for all levels of dance fitness class. \nWhat to bring to Soul Line Dancing class? You should bring comfortable workout clothes\, a water bottle\, comfortable shoes and a towel. \nWe’ll be covering the following (if time permits) : \nBlurred Lines – Robin Thicket Get it Poppin – Fat Joe Nwa baby – Flavour \nWhether you have two left feet\, a complete novice\, or simply enjoy dancing in a group\, it’s time to throw away your excuses and JustBe yourself and have some fun! \nNB:  You don’t have to bring a partner to be a part of this class \nThere are only 15 spaces available for this workshop\, so reserve your place NOW! \nTo book\, click here http://bit.ly/2I8sZxC \nDate:             Saturday 15th June 2019 Venue:          Rye Lane Baptist Church Hall Address:       59A Rye Lane\, Peckham SE15 5EX Time:             3:30pm – 5:30pm \nMembers Price:  £12 Non Member’s Price:  £15 \n			\n				\n				\n				\n				\n				\n					\n					\n						SPECIAL OFFER!\n						Book onto Soul-Line Dancing AND Health & Fitness Workshop at a discounted rate. (Health & Fitness Workshop takes place Sat 15th June\, Rye Lane Baptist Church 12pm–3pm)
URL:https://just-be.co.uk/event/soul-line-dancing-workshop/
LOCATION:Rye Lane Baptist Church Hall\, 59A Rye Lane\, Peckham\, London\, SE15 5EX\, United Kingdom
CATEGORIES:JustBe Together
ATTACH;FMTTYPE=image/png:https://just-be.co.uk/wp-content/uploads/2019/05/LineDance-Workshop-1.png
ORGANIZER;CN="Yvette McDonald":MAILTO:info@just-be.co.uk
END:VEVENT
END:VCALENDAR