BEGIN:VCALENDAR
VERSION:2.0
PRODID:-//Just-Be.co.uk | Women&#039;s Events London - ECPv6.15.20//NONSGML v1.0//EN
CALSCALE:GREGORIAN
METHOD:PUBLISH
X-WR-CALNAME:Just-Be.co.uk | Women&#039;s Events London
X-ORIGINAL-URL:https://just-be.co.uk
X-WR-CALDESC:Events for Just-Be.co.uk | Women&#039;s Events London
REFRESH-INTERVAL;VALUE=DURATION:PT1H
X-Robots-Tag:noindex
X-PUBLISHED-TTL:PT1H
BEGIN:VTIMEZONE
TZID:Europe/London
BEGIN:DAYLIGHT
TZOFFSETFROM:+0000
TZOFFSETTO:+0100
TZNAME:BST
DTSTART:20180325T010000
END:DAYLIGHT
BEGIN:STANDARD
TZOFFSETFROM:+0100
TZOFFSETTO:+0000
TZNAME:GMT
DTSTART:20181028T010000
END:STANDARD
BEGIN:DAYLIGHT
TZOFFSETFROM:+0000
TZOFFSETTO:+0100
TZNAME:BST
DTSTART:20190331T010000
END:DAYLIGHT
BEGIN:STANDARD
TZOFFSETFROM:+0100
TZOFFSETTO:+0000
TZNAME:GMT
DTSTART:20191027T010000
END:STANDARD
BEGIN:DAYLIGHT
TZOFFSETFROM:+0000
TZOFFSETTO:+0100
TZNAME:BST
DTSTART:20200329T010000
END:DAYLIGHT
BEGIN:STANDARD
TZOFFSETFROM:+0100
TZOFFSETTO:+0000
TZNAME:GMT
DTSTART:20201025T010000
END:STANDARD
END:VTIMEZONE
BEGIN:VEVENT
DTSTART;TZID=Europe/London:20191213T130000
DTEND;TZID=Europe/London:20191213T170000
DTSTAMP:20260422T132013
CREATED:20191101T143041Z
LAST-MODIFIED:20191101T144628Z
UID:1769-1576242000-1576256400@just-be.co.uk
SUMMARY:Moments4Seniors Christmas Lunch
DESCRIPTION:MOMENTS4SENIORS CHRISTMAS LUNCH 2019\nJingle all the way with us and JustBe Festive! \nWe invite you to our Moments4Seniors Christmas Lunch \nat Bromley Court Hotel\, 11-13 Bromley Road\, Catford\, SE6 2TS \non Friday 13th December 2019 from 1:00pm – 5:00pm \nThere will be a 3 course Christmas Lunch\, coffee and mince pies together with the JustBe Christmas Chorale\, entertainment and surprises on the day! \nTICKETS:\nSENIORS:         £15.00 \nMEMBERS:      £25.00 \nSTANDARD:    £30.00 \nGet your tickets now from www.jus-tickets.com – Search “JustBe Festive” \nThere are limited places available so book now to avoid disappointment!
URL:https://just-be.co.uk/event/moments4seniors-christmas-lunch/
LOCATION:Bromley Court Hotel\, 11-13 Bromley Road\, Catford\, London\, BR1 4JD\, United Kingdom
CATEGORIES:Moments 4 Seniors
ATTACH;FMTTYPE=image/jpeg:https://just-be.co.uk/wp-content/uploads/2019/11/A5-Flyer-Xmas-LUNCH-2019-5-SMALL.jpg
ORGANIZER;CN="Yvette McDonald":MAILTO:info@just-be.co.uk
END:VEVENT
BEGIN:VEVENT
DTSTART;TZID=Europe/London:20191128T130000
DTEND;TZID=Europe/London:20191128T170000
DTSTAMP:20260422T132013
CREATED:20191101T140138Z
LAST-MODIFIED:20191101T141345Z
UID:1755-1574946000-1574960400@just-be.co.uk
SUMMARY:Fit & Healthy Workshops
DESCRIPTION:JUST BE FIT & HEALTHY WORKSHOPS\nJoin us for a fabulous 2-part interactive workshop – one ticket will allow access to both workshops! \nWorkshop 1 – Fitness – 1:00pm – 2:30pm \nWith Tyrone Cassius of Specifeye Health & Wellbeing \nWorkshop 2 – Healthy Nutrition – 3:00pm – 5:00pm \nWith Chef Iteah Masai of Iteah’s Natural Herbs & Spices for Health & Wellbeing \nTICKETS:\nSENIORS: £5.00 \nSTANDARD: £9.00 \nGet your tickets now from www.jus-tickets.com – Search “Fit and Healthy” \nThere are limited places available so book now to avoid disappointment!
URL:https://just-be.co.uk/event/fit-healthy-workshops/
LOCATION:St Laurence Church Hall\, 37 Bromley Road\, Catford\, London\, SE62TS\, United Kingdom
CATEGORIES:Moments 4 Seniors
ATTACH;FMTTYPE=image/jpeg:https://just-be.co.uk/wp-content/uploads/2019/11/FIT-HEALTHY-WORKSHOP-4-SMALL.jpg
ORGANIZER;CN="Yvette McDonald":MAILTO:info@just-be.co.uk
END:VEVENT
BEGIN:VEVENT
DTSTART;TZID=Europe/London:20191024T140000
DTEND;TZID=Europe/London:20191024T170000
DTSTAMP:20260422T132013
CREATED:20190824T161826Z
LAST-MODIFIED:20190824T195435Z
UID:1661-1571925600-1571936400@just-be.co.uk
SUMMARY:Food Stories from the Caribbean
DESCRIPTION:Moments4Seniors Christmas Lunch\n				\n				\n			\n			\n				\n				\n				\n				\n				\n				\n				\n				\n				\n				This is an Interactive Workshop \nWith Barbara Gray\, (Mayoress of Lewisham & Advisor on Health Inequalities\, founder and CEO of the social Enterprise “Urban Dandelion”) and Rose Sinclair (Design Lecturer (Textiles) at Goldsmiths\, London\, & Programme Leader BA Creativity\, Design & Learning. \nThis workshop has ingredients to explore and activities to do!  Do you know your ‘Stagaback’ from your ‘Bustamante Backbone’\, or your ‘Ticky Ticky’\, or what 25 grams of Plantain looks like as part of your 5-a-day…or even how to use Cassava to make starch for your crochet and then make ‘Bammy’? \nCome and join us on a food journey\, sharing and telling your stories! \nTICKETS: \nBook Now: www.jus-tickets.com – search “JustBe Food” \n\n\n\nSeniors\n£ 5\n\n\n\nStandard\n£ 8
URL:https://just-be.co.uk/event/food-stories-from-the-caribbean/
LOCATION:St Laurence Church\, 37 Bromley Road\, Catford\, London\, SE62TS\, United Kingdom
CATEGORIES:Moments 4 Seniors
ATTACH;FMTTYPE=image/jpeg:https://just-be.co.uk/wp-content/uploads/2019/08/Food-Stories-A5-Flyer-6-SMALL.jpg
ORGANIZER;CN="Yvette McDonald":MAILTO:info@just-be.co.uk
END:VEVENT
BEGIN:VEVENT
DTSTART;TZID=Europe/London:20191019T150000
DTEND;TZID=Europe/London:20191019T213000
DTSTAMP:20260422T132013
CREATED:20190824T200622Z
LAST-MODIFIED:20190824T201514Z
UID:1680-1571497200-1571520600@just-be.co.uk
SUMMARY:Caribbean Dance & Afternoon Tea
DESCRIPTION:Moments4Seniors Christmas Lunch\n				\n				\n			\n			\n				\n				\n				\n				\n				\n				\n				\n				\n				\n				Caribbean Dance & Afternoon Tea – Interactive Caribbean Dance Workshop \nFeaturing award winning Dr ‘H’ Patten\, Artistic Director of Koromanti Arts and ‘H’ Patten Dance Theatre Co.  Dr ‘H’ Patten is an experienced dancer\, choreographer\, filmmaker\, visual artist\, storyteller\, author and performer. \nThe workshop will cover music and dances from around the Caribbean spanning the last 70 years of the Windrush Generation in the UK.  Featuring dances such as Bele\, Juba\, Mento\, Bolero & Soca.  This will be a fun and energetic trip down memory lane\, so put on your dancing shoes! \nMusic by Nzinga Soundz\, all female sound system featuring DJ Ade and Junie Rankin. \nTICKETS: \nBook Now: www.jus-tickets.com – search “JustBe Tea Party” \n\n\n\nSeniors (65+)\n£ 10\n\n\n\nCarers\n£ 20\n\n\n\n\nWorkshop/Party \n\n£ 10
URL:https://just-be.co.uk/event/caribbean-dance-afternoon-tea/
LOCATION:Rye Lane Chapel\, 59A Rye Lane\, London\, SE15 5EX\, United Kingdom
CATEGORIES:Moments 4 Seniors
ATTACH;FMTTYPE=image/jpeg:https://just-be.co.uk/wp-content/uploads/2019/08/a5-Flyer-Carib-Dance-tea-6-SMALL.jpg
ORGANIZER;CN="Yvette McDonald":MAILTO:info@just-be.co.uk
END:VEVENT
BEGIN:VEVENT
DTSTART;TZID=Europe/London:20190802T080000
DTEND;TZID=Europe/London:20190802T193000
DTSTAMP:20260422T132013
CREATED:20190520T221236Z
LAST-MODIFIED:20190605T101930Z
UID:1038-1564732800-1564774200@just-be.co.uk
SUMMARY:Seniors Seaside Trip to Eastbourne
DESCRIPTION:Moments4Seniors Christmas Lunch\n				\n				\n			\n				\n				\n				\n				\n				\n			\n				\n				\n				\n				\n				PAY SECURELY ONLINEPay for your place on this workshop with PAYPAL\, your transaction is completely secure.  Choose your option and click “Add to Cart” button. \n				\n			\n				\n				\n				\n				\n				\n\n\n\nOptions\nSOLD OUT\nSOLD OUT\n \n\n\n\n\n\n\n\n			\n			\n				\n				\n				\n				\n				\n				\n				\n				\n				\n				SOLD OUT!This event is now sold out.  Sorry to disappoint but there are no tickets left. \n				\n			\n				\n				\n				\n				\n				Moments4Seniors are fun activities for senior citizens\, enabling them to keep their minds sharp\, bodies strong\, and spirits high. We create the space and opportunity for them to spend time with their peers\, whether it’s a trip to the seaside\, playing a game of dominoes\, or just kicking back and reminiscing about the good old days. \nOur day trip to the seaside is for senior citizens aged 65 and over. Come along and socialise with other young-minded seniors. This year we will be travelling to Eastbourne\, and the day will be for you to do what you want: shopping\, playing dominoes\, eating fish chips or just chilling! \nThe only ask we have is that you are able to get yourself around with ease\, as we will not be able to provide any mobility assistance on the day. If you do need help getting around\, please ensure you bring along someone who is able to help you. \n\n\n\nMeeting point:\nBell Green Retail Park\, Sydenham\, SE26 4PU\n\n\nTime:\n 8.30am\n\n\nLeave Eastbourne:\n5:00pm\n\n\nCost:\n£10 (65+)  £25 (Carer)\n\n\n\n  \nThere are 0 spaces left.  For more information email info@just-be.co.uk. \n 
URL:https://just-be.co.uk/event/seniors-seaside-trip-to-eastbourne/
LOCATION:London
CATEGORIES:Moments 4 Seniors
ATTACH;FMTTYPE=image/jpeg:https://just-be.co.uk/wp-content/uploads/2019/05/2016-08-05-10.43-opt.jpg
ORGANIZER;CN="Yvette McDonald":MAILTO:info@just-be.co.uk
END:VEVENT
BEGIN:VEVENT
DTSTART;TZID=Europe/London:20190601T130000
DTEND;TZID=Europe/London:20190601T170000
DTSTAMP:20260422T132013
CREATED:20190517T000233Z
LAST-MODIFIED:20190525T120311Z
UID:121-1559394000-1559408400@just-be.co.uk
SUMMARY:Moments4Seniors Launch
DESCRIPTION:Moments4Seniors Christmas Lunch\n				\n				\n			\n			\n				\n				\n				\n				\n				\n				\n				\n				\n				\n				EVENT SOLD OUT!Sorry all tickets for this event have sold out! \n				\n			\n				\n				\n				\n				\n				Join us as we launch Moments4Seniors a project that will provide events and activities to enable our senior citizens to achieve social inclusion living in London! In partnership with I Am Echo and Love Rebekah\, we kick off with a fashion show featuring our seniors as catwalk stars as they model contemporary African attire by Gitas Portal and represent our theme for the afternoon ‘Boundless’ as they show the audience that they are free to live and celebrate life\,\nwithout fear or hesitation. \nYOUR HOST: Yvette McDonald\nENTERTAINMENT: Paulette Tajah\, Karen Charles plus A Step In Time (Dance Group)\nGUEST SPEAKER: Barbara Gray (Dementia Champion)\nTICKETS: (includes refreshments): £10 per person\n£5 for seniors (65+) and children (2-11]) under 2’s free\n£27 for a family of 4  (2 adults & 2 children)\nTo book visit Jus Tickets: https://jus-tickets.com/events/moments4seniors-launch-event/ \nSATURDAY 1ST JUNE 2019\nSt Laurence Centre\n37 Bromley Road\, London SE6 2TS\nTIME: 1pm-5pm [doors open 12:15pm]
URL:https://just-be.co.uk/event/moments-4-seniors-launch-event/
LOCATION:St Laurence Centre\, 37 Bromley Road\, Bromley\, SE6 2TS
CATEGORIES:Moments 4 Seniors
ATTACH;FMTTYPE=image/jpeg:https://just-be.co.uk/wp-content/uploads/2019/05/M4S_flyer_2019_final.jpg
ORGANIZER;CN="Yvette McDonald":MAILTO:info@just-be.co.uk
END:VEVENT
END:VCALENDAR