BEGIN:VCALENDAR
VERSION:2.0
PRODID:-//Just-Be.co.uk | Women&#039;s Events London - ECPv6.15.20//NONSGML v1.0//EN
CALSCALE:GREGORIAN
METHOD:PUBLISH
X-WR-CALNAME:Just-Be.co.uk | Women&#039;s Events London
X-ORIGINAL-URL:https://just-be.co.uk
X-WR-CALDESC:Events for Just-Be.co.uk | Women&#039;s Events London
REFRESH-INTERVAL;VALUE=DURATION:PT1H
X-Robots-Tag:noindex
X-PUBLISHED-TTL:PT1H
BEGIN:VTIMEZONE
TZID:Europe/London
BEGIN:DAYLIGHT
TZOFFSETFROM:+0000
TZOFFSETTO:+0100
TZNAME:BST
DTSTART:20220327T010000
END:DAYLIGHT
BEGIN:STANDARD
TZOFFSETFROM:+0100
TZOFFSETTO:+0000
TZNAME:GMT
DTSTART:20221030T010000
END:STANDARD
BEGIN:DAYLIGHT
TZOFFSETFROM:+0000
TZOFFSETTO:+0100
TZNAME:BST
DTSTART:20230326T010000
END:DAYLIGHT
BEGIN:STANDARD
TZOFFSETFROM:+0100
TZOFFSETTO:+0000
TZNAME:GMT
DTSTART:20231029T010000
END:STANDARD
BEGIN:DAYLIGHT
TZOFFSETFROM:+0000
TZOFFSETTO:+0100
TZNAME:BST
DTSTART:20240331T010000
END:DAYLIGHT
BEGIN:STANDARD
TZOFFSETFROM:+0100
TZOFFSETTO:+0000
TZNAME:GMT
DTSTART:20241027T010000
END:STANDARD
END:VTIMEZONE
BEGIN:VEVENT
DTSTART;TZID=Europe/London:20230325T120000
DTEND;TZID=Europe/London:20230603T160000
DTSTAMP:20260422T190213
CREATED:20230221T144012Z
LAST-MODIFIED:20230417T152047Z
UID:2816-1679745600-1685808000@just-be.co.uk
SUMMARY:Release Doubt & Embrace Confidence
DESCRIPTION:*FREE WORKSHOPS OVER 12 WEEKS\nRELEASE DOUBT & EMBRACE CONFIDENCE!\nFIND YOUR AUTHENTIC SELF + AWAKEN YOUR TALENTS!\n \nFREE JUSTBE POSITIVE WORKSHOPS are taking place via Zoom and at: Venue 28\, 28 Beckenham Road\, Beckenham\, BR3 4LS. \nJOIN US to find your authentic self and awaken your talents! \nStarts: Saturday 25th March 2023 \nTime: 12 Noon – 4:00pm \nEnds: Saturday 3rd June 2023 \nOver the course of 12 weeks\, you will get the opportunity to reflect\, explore\, take action and transform! With face to face workshops and online Zoom meetings\, you will reflect on and explore your self confidence and understand how the way you think affects your perception and ultimately your actions!  Self limiting beliefs can affect our lives in a negative way; join our workshops to boost your self confidence\, change your perspective and learn how to take action. Reveal hidden talents and learn how to get the results you deserve! \nBy the end of the sessions\, you will feel more empowered\, confident and positive. \nWORKSHOP CONTENT \n\nWho am I according to me?\nWho do I want to be if I could change?\nWhat do I need to do to make the changes I want to see?\nBreaking bad habits.\nStill breaking bad habits.\nThe new me.\n\nRemember “My Thoughts” + “My Perception” + “My Action” = “My Results” \nCELEBRATORY EVENT \nEnd of Event Celebration ” Look at me now!” \non Saturday 3rd June 2023 – Bring your family and friends! \n*Please note: £5 Registration Fee | £30 Contribution for Refreshments & Materials. \nREGISTER NOW! \nhttp://bit.ly/3I6AxA5 \n 
URL:https://just-be.co.uk/event/release-doubt-embrace-confidence-2/
LOCATION:Venue 28\, 28 Beckenham Road\, Beckenham\, BR3 4LS\, United Kingdom
CATEGORIES:JustBe Together
ATTACH;FMTTYPE=image/jpeg:https://just-be.co.uk/wp-content/uploads/2023/02/FLYER-A5-V2.3.2.jpg
ORGANIZER;CN="Yvette McDonald":MAILTO:info@just-be.co.uk
END:VEVENT
BEGIN:VEVENT
DTSTART;TZID=Europe/London:20230501T100000
DTEND;TZID=Europe/London:20230501T180000
DTSTAMP:20260422T190213
CREATED:20230322T123739Z
LAST-MODIFIED:20230323T135354Z
UID:2938-1682935200-1682964000@just-be.co.uk
SUMMARY:JustBe Real Women's Conference 2023
DESCRIPTION:RESCUED …. RESTORED ….. RELEASED\nJustBe Real Women’s Conference 2023\nWe’re proud to announce our very first JustBe Real Women’s Conference on Monday 1st May 2023. Our theme is Rescued …. Restored ….. Released.  Join me and my team in a day that will transform and inspire you to stand straight and strong.   No matter what your story you will be EMpowered\, EQquipped and ENcouraged. \nHave you ever been or felt rejection? \n\nDo you at times feel lonely\, isolated or even alone?\nAre you holding on to painful memories which you find difficult to let go of?\nDo you feel like you are running on empty holding out for answered prayer?\n\nIf you claim any of the above then this is a day you cannot miss.  I will also be sharing my powerful story “From Self Doubt To Self-Belief”\, a story of hope and optimism which I’m sure will resonate with many women. \nThere will be: \n\nA time of worship & thanksgiving\nInspiring teaching & encouragement\nInteractive & reflective discussions\nAnd lots more!!\n\nWe aim to create a safe space for like-minded women who have felt like the ‘woman bent over with all her pain and suffering’ in Luke’s gospel.  No matter what your issues are\, this powerful day will help to release you from what keeps you ‘bent over with the cares of life’. \nYour day includes: \n\nBreakfast\nLunch\nAfternoon refreshments\n\nWho is this for? \nFor women of all stages of life: believers and non-believers\, family\, friends and your church group. ALL are welcomed to spend the day with us. You will meet and network with like-minded women who are on a similar journey\, sharing experiences and encouraging each other. \nEarly Bird Ticket: £45 [until Friday 7th April]\nStandard Ticket:  £49 \nHOW TO REGISTER \n BOOK NOW\n  \n EVENTBRITE\n  \nEmail events@just-be.co.uk for any further information. \nWe look forward to seeing you and your friends on Monday 1st May. Thanking you in advance for your support.
URL:https://just-be.co.uk/event/justbe-real-womens-conference-2023/
LOCATION:Bromley Court Hotel\, 11-13 Bromley Road\, Catford\, London\, BR1 4JD\, United Kingdom
CATEGORIES:JustBe Real
ATTACH;FMTTYPE=image/jpeg:https://just-be.co.uk/wp-content/uploads/2023/03/FLYER-A5-V-7.3.jpg
ORGANIZER;CN="Yvette McDonald":MAILTO:info@just-be.co.uk
END:VEVENT
END:VCALENDAR