BEGIN:VCALENDAR
VERSION:2.0
PRODID:-//Just-Be.co.uk | Women&#039;s Events London - ECPv6.15.20//NONSGML v1.0//EN
CALSCALE:GREGORIAN
METHOD:PUBLISH
X-ORIGINAL-URL:https://just-be.co.uk
X-WR-CALDESC:Events for Just-Be.co.uk | Women&#039;s Events London
REFRESH-INTERVAL;VALUE=DURATION:PT1H
X-Robots-Tag:noindex
X-PUBLISHED-TTL:PT1H
BEGIN:VTIMEZONE
TZID:Europe/London
BEGIN:DAYLIGHT
TZOFFSETFROM:+0000
TZOFFSETTO:+0100
TZNAME:BST
DTSTART:20200329T010000
END:DAYLIGHT
BEGIN:STANDARD
TZOFFSETFROM:+0100
TZOFFSETTO:+0000
TZNAME:GMT
DTSTART:20201025T010000
END:STANDARD
BEGIN:DAYLIGHT
TZOFFSETFROM:+0000
TZOFFSETTO:+0100
TZNAME:BST
DTSTART:20210328T010000
END:DAYLIGHT
BEGIN:STANDARD
TZOFFSETFROM:+0100
TZOFFSETTO:+0000
TZNAME:GMT
DTSTART:20211031T010000
END:STANDARD
BEGIN:DAYLIGHT
TZOFFSETFROM:+0000
TZOFFSETTO:+0100
TZNAME:BST
DTSTART:20220327T010000
END:DAYLIGHT
BEGIN:STANDARD
TZOFFSETFROM:+0100
TZOFFSETTO:+0000
TZNAME:GMT
DTSTART:20221030T010000
END:STANDARD
END:VTIMEZONE
BEGIN:VEVENT
DTSTART;TZID=Europe/London:20210313T113000
DTEND;TZID=Europe/London:20210313T133000
DTSTAMP:20260421T141117
CREATED:20210122T140048Z
LAST-MODIFIED:20210122T140736Z
UID:2314-1615635000-1615642200@just-be.co.uk
SUMMARY:JustBe Cook-In
DESCRIPTION:JUSTBE COOK-IN – with Kicia’s Kitchen\nSaturday 13th March 2021 – via Zoom \n \nDo you want fresh\, tasty and warm cake coming out of an oven…mmmmm? \nThen why not try to recreate that moment and bake a cake without fuss or frosting! Join our cake baking fundraising event on Saturday 13th Marchat 11:30am from the comfort of your own kitchen\, via ZOOM\, and create a fantastic Lemon Drizzle Cake! \nThe ingredients needed will be sent a few days before the ZOOM and then we will ALL BAKE TOGETHER. The camaraderie will be great. The idea is that anyone can do it. The class fee is just £5 per household  which will be donated to JustBe’s fundraising programme. So why not get the members in your household involved. \nFor more information email lindaomallo@hotmail.com leaving your name and contact details. \nSmall Actions x Lots of People = BIG CHANGE \nCake is a vehicle for connection – connect with us on the 13th and help raise funds at the same time! \nSpread the crumbs (oooooppss the word!)
URL:https://just-be.co.uk/event/justbe-cook-in/
LOCATION:ONLINE – ZOOM
CATEGORIES:JustBe Fundraising
ATTACH;FMTTYPE=image/jpeg:https://just-be.co.uk/wp-content/uploads/2021/01/fund-raising-banner-2-layer.jpg
ORGANIZER;CN="Linda O'Mallo":MAILTO:lindaomallo@hotmail.com
END:VEVENT
END:VCALENDAR