BEGIN:VCALENDAR
VERSION:2.0
PRODID:-//Just-Be.co.uk | Women&#039;s Events London - ECPv6.15.20//NONSGML v1.0//EN
CALSCALE:GREGORIAN
METHOD:PUBLISH
X-ORIGINAL-URL:https://just-be.co.uk
X-WR-CALDESC:Events for Just-Be.co.uk | Women&#039;s Events London
REFRESH-INTERVAL;VALUE=DURATION:PT1H
X-Robots-Tag:noindex
X-PUBLISHED-TTL:PT1H
BEGIN:VTIMEZONE
TZID:Europe/London
BEGIN:DAYLIGHT
TZOFFSETFROM:+0000
TZOFFSETTO:+0100
TZNAME:BST
DTSTART:20200329T010000
END:DAYLIGHT
BEGIN:STANDARD
TZOFFSETFROM:+0100
TZOFFSETTO:+0000
TZNAME:GMT
DTSTART:20201025T010000
END:STANDARD
BEGIN:DAYLIGHT
TZOFFSETFROM:+0000
TZOFFSETTO:+0100
TZNAME:BST
DTSTART:20210328T010000
END:DAYLIGHT
BEGIN:STANDARD
TZOFFSETFROM:+0100
TZOFFSETTO:+0000
TZNAME:GMT
DTSTART:20211031T010000
END:STANDARD
BEGIN:DAYLIGHT
TZOFFSETFROM:+0000
TZOFFSETTO:+0100
TZNAME:BST
DTSTART:20220327T010000
END:DAYLIGHT
BEGIN:STANDARD
TZOFFSETFROM:+0100
TZOFFSETTO:+0000
TZNAME:GMT
DTSTART:20221030T010000
END:STANDARD
END:VTIMEZONE
BEGIN:VEVENT
DTSTART;TZID=Europe/London:20210115T193000
DTEND;TZID=Europe/London:20210115T213000
DTSTAMP:20260421T064132
CREATED:20210104T174429Z
LAST-MODIFIED:20210104T181808Z
UID:2277-1610739000-1610746200@just-be.co.uk
SUMMARY:Girls Night In - Virtual Quiz Night - 365 DAYS FILMED IN 10!
DESCRIPTION:Start your 2021 off with our fun-themed quiz called 365 Days Filmed in 10! \nJoin us as we test how far and wide your memory of the last year…maybe the last 10 years serves you testing your general knowledge\, film knowledge and everything in between! And as a bonus\, for those who haven’t yet taken down their Christmas decorations\, we’ll have a fun bullet round of Christmas-themed questions to keep the spirit going! \nThere are prizes to be won\, but you’ve gotta be in it to win it!  The quiz hosts will double as judge and jury and their answers are final! \nWhat to do next? \n1. Register your interest by clicking here\n2. Assemble yourselves into teams of 4-6\n3. Choose a team leader\n4. Create a team name\n5. Each team member to register their interest (first name\, surname and team name) by email to events@just-be.co.uk no later than Friday 8 January 2021. \nPick wisely\, there are prizes at stake! \nStandard:  £5 per person\nMembers:  £4 per person \nFurther details will be sent after registration. \nPlease note\, if you are unable to form a team\, please register your interest and someone will get back to you. A  new team will be formed with 3 or 4 others. Please note we will deliberately mix the newly-formed groups so you may/may not be grouped with unfamiliar faces  Naturally\, we will confirm the full list of all teams\, prior to Quiz Night. \nRegistration will close on Monday 11th January so do not miss out!
URL:https://just-be.co.uk/event/girls-night-in-virtual-quiz-night-365-days-filmed-in-10/
LOCATION:ONLINE – ZOOM
CATEGORIES:JustBe Together
ATTACH;FMTTYPE=image/jpeg:https://just-be.co.uk/wp-content/uploads/2021/01/event-brite-banner-GIRLS-NIGHT-IN-copy.jpg
ORGANIZER;CN="Yvette McDonald":MAILTO:info@just-be.co.uk
END:VEVENT
END:VCALENDAR