BEGIN:VCALENDAR
VERSION:2.0
PRODID:-//Just-Be.co.uk | Women&#039;s Events London - ECPv6.15.20//NONSGML v1.0//EN
CALSCALE:GREGORIAN
METHOD:PUBLISH
X-ORIGINAL-URL:https://just-be.co.uk
X-WR-CALDESC:Events for Just-Be.co.uk | Women&#039;s Events London
REFRESH-INTERVAL;VALUE=DURATION:PT1H
X-Robots-Tag:noindex
X-PUBLISHED-TTL:PT1H
BEGIN:VTIMEZONE
TZID:Europe/London
BEGIN:DAYLIGHT
TZOFFSETFROM:+0000
TZOFFSETTO:+0100
TZNAME:BST
DTSTART:20200329T010000
END:DAYLIGHT
BEGIN:STANDARD
TZOFFSETFROM:+0100
TZOFFSETTO:+0000
TZNAME:GMT
DTSTART:20201025T010000
END:STANDARD
BEGIN:DAYLIGHT
TZOFFSETFROM:+0000
TZOFFSETTO:+0100
TZNAME:BST
DTSTART:20210328T010000
END:DAYLIGHT
BEGIN:STANDARD
TZOFFSETFROM:+0100
TZOFFSETTO:+0000
TZNAME:GMT
DTSTART:20211031T010000
END:STANDARD
BEGIN:DAYLIGHT
TZOFFSETFROM:+0000
TZOFFSETTO:+0100
TZNAME:BST
DTSTART:20220327T010000
END:DAYLIGHT
BEGIN:STANDARD
TZOFFSETFROM:+0100
TZOFFSETTO:+0000
TZNAME:GMT
DTSTART:20221030T010000
END:STANDARD
END:VTIMEZONE
BEGIN:VEVENT
DTSTART;TZID=Europe/London:20210305T200000
DTEND;TZID=Europe/London:20210305T233000
DTSTAMP:20260421T032409
CREATED:20210104T174826Z
LAST-MODIFIED:20210214T144613Z
UID:2280-1614974400-1614987000@just-be.co.uk
SUMMARY:Girls Night In - Club Night - Chez Mois!
DESCRIPTION:Remember the days when you put on that new dress\, did your make-up and hair and put on those 3-inch heels to go to a late-night rave across town? \nWell\, now you can do all that from the comfort of your own home! So\, throw on the wig\, dig out your best party dress and put on those high-heeled (or comfortable\, let’s face it) dancing shoes. It’s time to clear the sitting-room dancefloor\, get the drinks and snacks and join DJ Lee for a great night of tunes and laughter. \nSend in your requests ahead of time\, and you can sway and sing along at the top of your lungs to your favourite artists. \nClick here to register and reserve your space for Club Night Chez Moi. \nStandard:  £5\nMembers:  £3 \nLet’s make this a night to remember! \nP.S. Men are included!
URL:https://just-be.co.uk/event/girls-night-in-club-night-chez-mois/
LOCATION:ONLINE – ZOOM
CATEGORIES:JustBe Together
ATTACH;FMTTYPE=image/jpeg:https://just-be.co.uk/wp-content/uploads/2021/01/event-brite-banner-GIRLS-NIGHT-IN-copy.jpg
ORGANIZER;CN="Yvette McDonald":MAILTO:info@just-be.co.uk
END:VEVENT
END:VCALENDAR